BEGIN:VCALENDAR
VERSION:2.0
PRODID:-//Essigmanufaktur zur Freiheit - ECPv6.15.20//NONSGML v1.0//EN
CALSCALE:GREGORIAN
METHOD:PUBLISH
X-WR-CALNAME:Essigmanufaktur zur Freiheit
X-ORIGINAL-URL:https://zurfreiheit.de
X-WR-CALDESC:Veranstaltungen für Essigmanufaktur zur Freiheit
REFRESH-INTERVAL;VALUE=DURATION:PT1H
X-Robots-Tag:noindex
X-PUBLISHED-TTL:PT1H
BEGIN:VTIMEZONE
TZID:Europe/Berlin
BEGIN:DAYLIGHT
TZOFFSETFROM:+0100
TZOFFSETTO:+0200
TZNAME:CEST
DTSTART:20250330T010000
END:DAYLIGHT
BEGIN:STANDARD
TZOFFSETFROM:+0200
TZOFFSETTO:+0100
TZNAME:CET
DTSTART:20251026T010000
END:STANDARD
BEGIN:DAYLIGHT
TZOFFSETFROM:+0100
TZOFFSETTO:+0200
TZNAME:CEST
DTSTART:20260329T010000
END:DAYLIGHT
BEGIN:STANDARD
TZOFFSETFROM:+0200
TZOFFSETTO:+0100
TZNAME:CET
DTSTART:20261025T010000
END:STANDARD
BEGIN:DAYLIGHT
TZOFFSETFROM:+0100
TZOFFSETTO:+0200
TZNAME:CEST
DTSTART:20270328T010000
END:DAYLIGHT
BEGIN:STANDARD
TZOFFSETFROM:+0200
TZOFFSETTO:+0100
TZNAME:CET
DTSTART:20271031T010000
END:STANDARD
END:VTIMEZONE
BEGIN:VEVENT
DTSTART;TZID=Europe/Berlin:20260307T110000
DTEND;TZID=Europe/Berlin:20260307T160000
DTSTAMP:20260424T153039
CREATED:20260121T094943Z
LAST-MODIFIED:20260121T094943Z
UID:18623-1772881200-1772899200@zurfreiheit.de
SUMMARY:Freiheits-Laden geöffnet !
DESCRIPTION:Unsere ganze Auswahl an Essigen\, Senfen\, Salatdressings und vielem mehr können Sie direkt vor Ort in unserem Freiheits-Laden verkosten und erwerben.\nZusätzlich zu unserem Online-Angebot finden Sie hier noch viele weitere Produkte aus eigener Herstellung oder von ausgesuchten Produzenten.
URL:https://zurfreiheit.de/event/freiheits-laden-geoeffnet-50/
LOCATION:Essigmanufaktur zur Freiheit\, Freiheitsstraße 20\, Reichelsheim\, Hessen\, 64385\, Deutschland
CATEGORIES:Freiheits-Laden
ATTACH;FMTTYPE=image/jpeg:https://zurfreiheit.de/wp-content/uploads/Freiheitsladen-1.jpg
ORGANIZER;CN="Essigmanufaktur zur Freiheit":MAILTO:info@zurfreiheit.de
END:VEVENT
BEGIN:VEVENT
DTSTART;TZID=Europe/Berlin:20260314T110000
DTEND;TZID=Europe/Berlin:20260314T160000
DTSTAMP:20260424T153039
CREATED:20260121T095007Z
LAST-MODIFIED:20260121T095007Z
UID:18622-1773486000-1773504000@zurfreiheit.de
SUMMARY:Freiheits-Laden geöffnet !
DESCRIPTION:Unsere ganze Auswahl an Essigen\, Senfen\, Salatdressings und vielem mehr können Sie direkt vor Ort in unserem Freiheits-Laden verkosten und erwerben.\nZusätzlich zu unserem Online-Angebot finden Sie hier noch viele weitere Produkte aus eigener Herstellung oder von ausgesuchten Produzenten.
URL:https://zurfreiheit.de/event/freiheits-laden-geoeffnet-51/
LOCATION:Essigmanufaktur zur Freiheit\, Freiheitsstraße 20\, Reichelsheim\, Hessen\, 64385\, Deutschland
CATEGORIES:Freiheits-Laden
ATTACH;FMTTYPE=image/jpeg:https://zurfreiheit.de/wp-content/uploads/Freiheitsladen-1.jpg
ORGANIZER;CN="Essigmanufaktur zur Freiheit":MAILTO:info@zurfreiheit.de
END:VEVENT
BEGIN:VEVENT
DTSTART;TZID=Europe/Berlin:20260321T110000
DTEND;TZID=Europe/Berlin:20260321T160000
DTSTAMP:20260424T153039
CREATED:20260121T095032Z
LAST-MODIFIED:20260121T095033Z
UID:18621-1774090800-1774108800@zurfreiheit.de
SUMMARY:Freiheits-Laden geöffnet !
DESCRIPTION:Unsere ganze Auswahl an Essigen\, Senfen\, Salatdressings und vielem mehr können Sie direkt vor Ort in unserem Freiheits-Laden verkosten und erwerben.\nZusätzlich zu unserem Online-Angebot finden Sie hier noch viele weitere Produkte aus eigener Herstellung oder von ausgesuchten Produzenten.
URL:https://zurfreiheit.de/event/freiheits-laden-geoeffnet-52/
LOCATION:Essigmanufaktur zur Freiheit\, Freiheitsstraße 20\, Reichelsheim\, Hessen\, 64385\, Deutschland
CATEGORIES:Freiheits-Laden
ATTACH;FMTTYPE=image/jpeg:https://zurfreiheit.de/wp-content/uploads/Freiheitsladen-1.jpg
ORGANIZER;CN="Essigmanufaktur zur Freiheit":MAILTO:info@zurfreiheit.de
END:VEVENT
BEGIN:VEVENT
DTSTART;TZID=Europe/Berlin:20260328T110000
DTEND;TZID=Europe/Berlin:20260328T160000
DTSTAMP:20260424T153039
CREATED:20260121T095119Z
LAST-MODIFIED:20260121T095119Z
UID:18631-1774695600-1774713600@zurfreiheit.de
SUMMARY:Freiheits-Laden geöffnet !
DESCRIPTION:Unsere ganze Auswahl an Essigen\, Senfen\, Salatdressings und vielem mehr können Sie direkt vor Ort in unserem Freiheits-Laden verkosten und erwerben.\nZusätzlich zu unserem Online-Angebot finden Sie hier noch viele weitere Produkte aus eigener Herstellung oder von ausgesuchten Produzenten.
URL:https://zurfreiheit.de/event/freiheits-laden-geoeffnet-53/
LOCATION:Essigmanufaktur zur Freiheit\, Freiheitsstraße 20\, Reichelsheim\, Hessen\, 64385\, Deutschland
CATEGORIES:Freiheits-Laden
ATTACH;FMTTYPE=image/jpeg:https://zurfreiheit.de/wp-content/uploads/Freiheitsladen-1.jpg
ORGANIZER;CN="Essigmanufaktur zur Freiheit":MAILTO:info@zurfreiheit.de
END:VEVENT
END:VCALENDAR